Package: maqcExpression4plex Version: 1.36.0 Command: /home/biocbuild/bbs-3.13-bioc/R/bin/R CMD build --keep-empty-dirs --no-resave-data maqcExpression4plex StartedAt: 2021-10-16 12:18:24 -0400 (Sat, 16 Oct 2021) EndedAt: 2021-10-16 12:18:29 -0400 (Sat, 16 Oct 2021) EllapsedTime: 5.5 seconds RetCode: 0 Status: OK PackageFile: maqcExpression4plex_1.36.0.tar.gz PackageFileSize: 6.579 MiB