Package: maqcExpression4plex Version: 1.36.0 Command: /home/biocbuild/bbs-3.13-bioc/R/bin/R CMD check --install=check:maqcExpression4plex.install-out.txt --library=/home/biocbuild/bbs-3.13-bioc/R/library --no-vignettes --timings maqcExpression4plex_1.36.0.tar.gz StartedAt: 2021-10-16 13:29:39 -0400 (Sat, 16 Oct 2021) EndedAt: 2021-10-16 13:29:52 -0400 (Sat, 16 Oct 2021) EllapsedTime: 13.4 seconds RetCode: 0 Status: OK CheckDir: maqcExpression4plex.Rcheck Warnings: 0