Package: maqcExpression4plex Version: 1.36.0 Command: /home/biocbuild/bbs-3.13-bioc/R/bin/R CMD INSTALL maqcExpression4plex StartedAt: 2021-10-16 11:05:16 -0400 (Sat, 16 Oct 2021) EndedAt: 2021-10-16 11:05:18 -0400 (Sat, 16 Oct 2021) EllapsedTime: 2.5 seconds RetCode: 0 Status: OK