git_url: https://git.bioconductor.org/packages/microRNAome git_branch: RELEASE_3_13 git_last_commit: bdcfd35 git_last_commit_date: 2021-05-19 12:01:06 -0400 (Wed, 19 May 2021) Package: microRNAome Version: 1.14.0 Maintainer: Matthew N. McCall MaintainerEmail: mccallm at gmail.com