git_url: https://git.bioconductor.org/packages/nanotubes git_branch: RELEASE_3_13 git_last_commit: f92ca90 git_last_commit_date: 2021-05-19 12:08:15 -0400 (Wed, 19 May 2021) Package: nanotubes Version: 1.8.0 Maintainer: Malte Thodberg MaintainerEmail: maltethodberg at gmail.com