Package: oct4 Version: 1.8.0 Command: /home/biocbuild/bbs-3.13-bioc/R/bin/R CMD check --install=check:oct4.install-out.txt --library=/home/biocbuild/bbs-3.13-bioc/R/library --no-vignettes --timings oct4_1.8.0.tar.gz StartedAt: 2021-10-16 13:42:27 -0400 (Sat, 16 Oct 2021) EndedAt: 2021-10-16 13:42:43 -0400 (Sat, 16 Oct 2021) EllapsedTime: 16.8 seconds RetCode: 0 Status: OK CheckDir: oct4.Rcheck Warnings: 0