Package: pd.atdschip.tiling Version: 0.30.0 Command: /home/biocbuild/bbs-3.13-bioc/R/bin/R CMD INSTALL pd.atdschip.tiling StartedAt: 2021-10-16 11:09:58 -0400 (Sat, 16 Oct 2021) EndedAt: 2021-10-16 11:10:45 -0400 (Sat, 16 Oct 2021) EllapsedTime: 47.4 seconds RetCode: 0 Status: OK