git_url: https://git.bioconductor.org/packages/prebsdata git_branch: RELEASE_3_13 git_last_commit: 5c30e81 git_last_commit_date: 2021-05-19 11:40:29 -0400 (Wed, 19 May 2021) Package: prebsdata Version: 1.28.0 Maintainer: Karolis Uziela MaintainerEmail: karolis.uziela at scilifelab.se