Package: prebsdata Version: 1.28.0 Command: /home/biocbuild/bbs-3.13-bioc/R/bin/R CMD build --keep-empty-dirs --no-resave-data prebsdata StartedAt: 2021-10-16 12:26:41 -0400 (Sat, 16 Oct 2021) EndedAt: 2021-10-16 12:27:04 -0400 (Sat, 16 Oct 2021) EllapsedTime: 22.7 seconds RetCode: 0 Status: OK PackageFile: prebsdata_1.28.0.tar.gz PackageFileSize: 23.53 MiB