Package: prostateCancerCamcap Version: 1.20.0 Command: /home/biocbuild/bbs-3.13-bioc/R/bin/R CMD build --keep-empty-dirs --no-resave-data prostateCancerCamcap StartedAt: 2021-10-16 12:27:27 -0400 (Sat, 16 Oct 2021) EndedAt: 2021-10-16 12:27:54 -0400 (Sat, 16 Oct 2021) EllapsedTime: 27.0 seconds RetCode: 0 Status: OK PackageFile: prostateCancerCamcap_1.20.0.tar.gz PackageFileSize: 46.85 MiB