Package: prostateCancerTaylor Version: 1.20.0 Command: /home/biocbuild/bbs-3.13-bioc/R/bin/R CMD INSTALL prostateCancerTaylor StartedAt: 2021-10-16 11:06:50 -0400 (Sat, 16 Oct 2021) EndedAt: 2021-10-16 11:07:07 -0400 (Sat, 16 Oct 2021) EllapsedTime: 16.6 seconds RetCode: 0 Status: OK