Package: ptairData Version: 1.0.1 Command: /home/biocbuild/bbs-3.13-bioc/R/bin/R CMD check --install=check:ptairData.install-out.txt --library=/home/biocbuild/bbs-3.13-bioc/R/library --no-vignettes --timings ptairData_1.0.1.tar.gz StartedAt: 2021-10-16 13:47:26 -0400 (Sat, 16 Oct 2021) EndedAt: 2021-10-16 13:47:42 -0400 (Sat, 16 Oct 2021) EllapsedTime: 16.5 seconds RetCode: 0 Status: OK CheckDir: ptairData.Rcheck Warnings: 0