Package: ptairData Version: 1.0.1 Command: /home/biocbuild/bbs-3.13-bioc/R/bin/R CMD INSTALL ptairData StartedAt: 2021-10-16 11:11:44 -0400 (Sat, 16 Oct 2021) EndedAt: 2021-10-16 11:11:47 -0400 (Sat, 16 Oct 2021) EllapsedTime: 2.5 seconds RetCode: 0 Status: OK