Package: qPLEXdata Version: 1.10.0 Command: /home/biocbuild/bbs-3.13-bioc/R/bin/R CMD INSTALL qPLEXdata StartedAt: 2021-10-16 11:20:37 -0400 (Sat, 16 Oct 2021) EndedAt: 2021-10-16 11:20:55 -0400 (Sat, 16 Oct 2021) EllapsedTime: 18.0 seconds RetCode: 0 Status: OK