Package: rRDPData Version: 1.12.0 Command: /home/biocbuild/bbs-3.13-bioc/R/bin/R CMD INSTALL rRDPData StartedAt: 2021-10-16 11:11:41 -0400 (Sat, 16 Oct 2021) EndedAt: 2021-10-16 11:11:48 -0400 (Sat, 16 Oct 2021) EllapsedTime: 6.6 seconds RetCode: 0 Status: OK