git_url: https://git.bioconductor.org/packages/rcellminerData git_branch: RELEASE_3_13 git_last_commit: 5d8f4bd git_last_commit_date: 2021-05-19 11:50:14 -0400 (Wed, 19 May 2021) Package: rcellminerData Version: 2.14.0 Maintainer: Augustin Luna , Vinodh Rajapakse MaintainerEmail: vinodh.rajapakse at nih.gov>, Fathi Elloumi