git_url: https://git.bioconductor.org/packages/restfulSEData git_branch: RELEASE_3_13 git_last_commit: 60068b1 git_last_commit_date: 2021-05-19 12:01:21 -0400 (Wed, 19 May 2021) Package: restfulSEData Version: 1.14.0 Maintainer: Bioconductor Package Maintainer MaintainerEmail: maintainer at bioconductor.org