Package: scRNAseq Version: 2.6.1 Command: /home/biocbuild/bbs-3.13-bioc/R/bin/R CMD INSTALL scRNAseq StartedAt: 2021-10-16 11:13:33 -0400 (Sat, 16 Oct 2021) EndedAt: 2021-10-16 11:14:08 -0400 (Sat, 16 Oct 2021) EllapsedTime: 34.3 seconds RetCode: 0 Status: OK