Package: stemHypoxia Version: 1.28.0 Command: /home/biocbuild/bbs-3.13-bioc/R/bin/R CMD check --install=check:stemHypoxia.install-out.txt --library=/home/biocbuild/bbs-3.13-bioc/R/library --no-vignettes --timings stemHypoxia_1.28.0.tar.gz StartedAt: 2021-10-16 14:05:50 -0400 (Sat, 16 Oct 2021) EndedAt: 2021-10-16 14:06:01 -0400 (Sat, 16 Oct 2021) EllapsedTime: 11.1 seconds RetCode: 0 Status: OK CheckDir: stemHypoxia.Rcheck Warnings: 0