Package: stemHypoxia Version: 1.28.0 Command: /home/biocbuild/bbs-3.13-bioc/R/bin/R CMD INSTALL stemHypoxia StartedAt: 2021-10-16 11:02:04 -0400 (Sat, 16 Oct 2021) EndedAt: 2021-10-16 11:02:07 -0400 (Sat, 16 Oct 2021) EllapsedTime: 2.7 seconds RetCode: 0 Status: OK