Package: systemPipeRdata Version: 1.20.0 Command: /home/biocbuild/bbs-3.13-bioc/R/bin/R CMD check --install=check:systemPipeRdata.install-out.txt --library=/home/biocbuild/bbs-3.13-bioc/R/library --no-vignettes --timings systemPipeRdata_1.20.0.tar.gz StartedAt: 2021-10-16 14:06:28 -0400 (Sat, 16 Oct 2021) EndedAt: 2021-10-16 14:07:17 -0400 (Sat, 16 Oct 2021) EllapsedTime: 48.5 seconds RetCode: 0 Status: OK CheckDir: systemPipeRdata.Rcheck Warnings: 0