git_url: https://git.bioconductor.org/packages/vulcandata git_branch: RELEASE_3_13 git_last_commit: a4c773d git_last_commit_date: 2021-05-19 12:01:27 -0400 (Wed, 19 May 2021) Package: vulcandata Version: 1.14.0 Maintainer: Federico M. Giorgi MaintainerEmail: federico.giorgi at gmail.com