Package: yeastNagalakshmi Version: 1.28.0 Command: /home/biocbuild/bbs-3.13-bioc/R/bin/R CMD build --keep-empty-dirs --no-resave-data yeastNagalakshmi StartedAt: 2021-10-16 12:45:24 -0400 (Sat, 16 Oct 2021) EndedAt: 2021-10-16 12:45:26 -0400 (Sat, 16 Oct 2021) EllapsedTime: 2.1 seconds RetCode: 0 Status: OK PackageFile: yeastNagalakshmi_1.28.0.tar.gz PackageFileSize: 14.33 MiB