Package: yeastNagalakshmi Version: 1.28.0 Command: /home/biocbuild/bbs-3.13-bioc/R/bin/R CMD check --install=check:yeastNagalakshmi.install-out.txt --library=/home/biocbuild/bbs-3.13-bioc/R/library --no-vignettes --timings yeastNagalakshmi_1.28.0.tar.gz StartedAt: 2021-10-16 14:15:28 -0400 (Sat, 16 Oct 2021) EndedAt: 2021-10-16 14:15:37 -0400 (Sat, 16 Oct 2021) EllapsedTime: 9.5 seconds RetCode: 0 Status: OK CheckDir: yeastNagalakshmi.Rcheck Warnings: 0