Package: yeastRNASeq Version: 0.30.0 Command: /home/biocbuild/bbs-3.13-bioc/R/bin/R CMD check --install=check:yeastRNASeq.install-out.txt --library=/home/biocbuild/bbs-3.13-bioc/R/library --no-vignettes --timings yeastRNASeq_0.30.0.tar.gz StartedAt: 2021-10-16 14:15:32 -0400 (Sat, 16 Oct 2021) EndedAt: 2021-10-16 14:19:13 -0400 (Sat, 16 Oct 2021) EllapsedTime: 220.9 seconds RetCode: 0 Status: WARNINGS CheckDir: yeastRNASeq.Rcheck Warnings: 1