Package: yeastRNASeq Version: 0.30.0 Command: /home/biocbuild/bbs-3.13-bioc/R/bin/R CMD INSTALL yeastRNASeq StartedAt: 2021-10-16 11:02:33 -0400 (Sat, 16 Oct 2021) EndedAt: 2021-10-16 11:02:47 -0400 (Sat, 16 Oct 2021) EllapsedTime: 14.3 seconds RetCode: 0 Status: OK