git_url: https://git.bioconductor.org/packages/zebrafishRNASeq git_branch: RELEASE_3_13 git_last_commit: 935cbbc git_last_commit_date: 2021-05-19 11:47:25 -0400 (Wed, 19 May 2021) Package: zebrafishRNASeq Version: 1.12.0 Maintainer: Davide Risso MaintainerEmail: risso.davide at gmail.com