Package: zebrafishRNASeq Version: 1.12.0 Command: /home/biocbuild/bbs-3.13-bioc/R/bin/R CMD check --install=check:zebrafishRNASeq.install-out.txt --library=/home/biocbuild/bbs-3.13-bioc/R/library --no-vignettes --timings zebrafishRNASeq_1.12.0.tar.gz StartedAt: 2021-10-16 14:15:44 -0400 (Sat, 16 Oct 2021) EndedAt: 2021-10-16 14:15:55 -0400 (Sat, 16 Oct 2021) EllapsedTime: 10.4 seconds RetCode: 0 Status: OK CheckDir: zebrafishRNASeq.Rcheck Warnings: 0