Package: RnaSeqGeneEdgeRQL Version: 1.16.1 Command: /home/biocbuild/bbs-3.13-bioc/R/bin/R CMD build --keep-empty-dirs --no-resave-data RnaSeqGeneEdgeRQL StartedAt: 2021-10-15 09:02:44 -0400 (Fri, 15 Oct 2021) EndedAt: 2021-10-15 09:03:35 -0400 (Fri, 15 Oct 2021) EllapsedTime: 51.3 seconds RetCode: 0 Status: OK PackageFile: RnaSeqGeneEdgeRQL_1.16.1.tar.gz PackageFileSize: 1.472 MiB