git_url: https://git.bioconductor.org/packages/arrays git_branch: RELEASE_3_13 git_last_commit: 6b37217 git_last_commit_date: 2021-05-19 11:18:52 -0400 (Wed, 19 May 2021) Package: arrays Version: 1.18.0 Maintainer: Bioconductor Package Maintainer MaintainerEmail: maintainer at bioconductor.org