Package: recountWorkflow Version: 1.16.0 Command: /home/biocbuild/bbs-3.13-bioc/R/bin/R CMD build --keep-empty-dirs --no-resave-data recountWorkflow StartedAt: 2021-10-15 09:02:25 -0400 (Fri, 15 Oct 2021) EndedAt: 2021-10-15 09:29:01 -0400 (Fri, 15 Oct 2021) EllapsedTime: 1595.4 seconds RetCode: 0 Status: OK PackageFile: recountWorkflow_1.16.0.tar.gz PackageFileSize: 2.123 MiB