git_url: https://git.bioconductor.org/packages/BufferedMatrix
git_branch: RELEASE_3_14
git_last_commit: 2d3839c
git_last_commit_date: 2021-10-26 11:50:47 -0400 (Tue, 26 Oct 2021)
Package: BufferedMatrix
Version: 1.58.0
Maintainer: Ben Bolstad
MaintainerEmail: bmb at bmbolstad.com