Package: DNAshapeR Version: 1.22.0 Command: rm -rf DNAshapeR.buildbin-libdir && mkdir DNAshapeR.buildbin-libdir && /Users/biocbuild/BBS/utils/build-universal.sh DNAshapeR_1.22.0.tar.gz /Library/Frameworks/R.framework/Resources/bin/R DNAshapeR.buildbin-libdir StartedAt: 2022-04-12 20:38:33 -0400 (Tue, 12 Apr 2022) EndedAt: 2022-04-12 20:39:55 -0400 (Tue, 12 Apr 2022) EllapsedTime: 82.2 seconds RetCode: 0 Status: OK PackageFile: DNAshapeR_1.22.0.tgz PackageFileSize: 1.251 MiB