Package: GIGSEA Version: 1.12.0 Command: chmod a+r GIGSEA -R && C:\Users\biocbuild\bbs-3.14-bioc\R\bin\R.exe CMD build --keep-empty-dirs --no-resave-data GIGSEA StartedAt: 2022-04-12 11:01:44 -0400 (Tue, 12 Apr 2022) EndedAt: 2022-04-12 11:02:00 -0400 (Tue, 12 Apr 2022) EllapsedTime: 16.3 seconds RetCode: 1 Status: ERROR PackageFile: None PackageFileSize: NA