Package: MetaboSignal Version: 1.24.0 Command: /home/biocbuild/bbs-3.14-bioc/R/bin/R CMD INSTALL MetaboSignal StartedAt: 2022-04-12 03:43:24 -0400 (Tue, 12 Apr 2022) EndedAt: 2022-04-12 03:44:08 -0400 (Tue, 12 Apr 2022) EllapsedTime: 44.4 seconds RetCode: 0 Status: OK