Package: PCAtools Version: 2.6.0 Command: /Library/Frameworks/R.framework/Resources/bin/R CMD build --keep-empty-dirs --no-resave-data PCAtools StartedAt: 2022-04-12 07:47:28 -0400 (Tue, 12 Apr 2022) EndedAt: 2022-04-12 07:56:47 -0400 (Tue, 12 Apr 2022) EllapsedTime: 558.7 seconds RetCode: 0 Status: OK PackageFile: PCAtools_2.6.0.tar.gz PackageFileSize: 9.848 MiB