Package: ROC Version: 1.70.0 Command: rm -rf ROC.buildbin-libdir && mkdir ROC.buildbin-libdir && C:\Users\biocbuild\bbs-3.14-bioc\R\bin\R.exe CMD INSTALL --merge-multiarch --build --library=ROC.buildbin-libdir ROC_1.70.0.tar.gz StartedAt: 2022-04-13 07:01:06 -0400 (Wed, 13 Apr 2022) EndedAt: 2022-04-13 07:01:13 -0400 (Wed, 13 Apr 2022) EllapsedTime: 7.2 seconds RetCode: 0 Status: OK PackageFile: ROC_1.70.0.zip PackageFileSize: 293.7 KiB