git_url: https://git.bioconductor.org/packages/SplicingFactory git_branch: RELEASE_3_14 git_last_commit: 906d50d git_last_commit_date: 2021-10-26 13:05:43 -0400 (Tue, 26 Oct 2021) Package: SplicingFactory Version: 1.2.0 Maintainer: Endre Sebestyen MaintainerEmail: endre.sebestyen at gmail.com