Package: aroma.light Version: 3.24.0 Command: C:\Users\biocbuild\bbs-3.14-bioc\R\bin\R.exe CMD check --force-multiarch --install=check:aroma.light.install-out.txt --library=C:\Users\biocbuild\bbs-3.14-bioc\R\library --no-vignettes --timings aroma.light_3.24.0.tar.gz StartedAt: 2022-04-12 15:40:37 -0400 (Tue, 12 Apr 2022) EndedAt: 2022-04-12 15:43:23 -0400 (Tue, 12 Apr 2022) EllapsedTime: 165.4 seconds RetCode: 0 Status: OK CheckDir: aroma.light.Rcheck Warnings: 0