Package: biobroom Version: 1.26.0 Command: rm -rf biobroom.buildbin-libdir && mkdir biobroom.buildbin-libdir && /Users/biocbuild/BBS/utils/build-universal.sh biobroom_1.26.0.tar.gz /Library/Frameworks/R.framework/Resources/bin/R biobroom.buildbin-libdir StartedAt: 2022-04-12 20:22:32 -0400 (Tue, 12 Apr 2022) EndedAt: 2022-04-12 20:22:44 -0400 (Tue, 12 Apr 2022) EllapsedTime: 11.4 seconds RetCode: 0 Status: OK PackageFile: biobroom_1.26.0.tgz PackageFileSize: 820.8 KiB