Package: codelink Version: 1.62.0 Command: /home/biocbuild/bbs-3.14-bioc/R/bin/R CMD build --keep-empty-dirs --no-resave-data codelink StartedAt: 2022-04-12 04:13:53 -0400 (Tue, 12 Apr 2022) EndedAt: 2022-04-12 04:14:24 -0400 (Tue, 12 Apr 2022) EllapsedTime: 30.5 seconds RetCode: 0 Status: OK PackageFile: codelink_1.62.0.tar.gz PackageFileSize: 3.168 MiB