Package: codelink Version: 1.62.0 Command: /home/biocbuild/bbs-3.14-bioc/R/bin/R CMD check --install=check:codelink.install-out.txt --library=/home/biocbuild/bbs-3.14-bioc/R/library --no-vignettes --timings codelink_1.62.0.tar.gz StartedAt: 2022-04-12 06:54:20 -0400 (Tue, 12 Apr 2022) EndedAt: 2022-04-12 06:56:04 -0400 (Tue, 12 Apr 2022) EllapsedTime: 103.9 seconds RetCode: 0 Status: OK CheckDir: codelink.Rcheck Warnings: 0