Package: cydar Version: 1.18.0 Command: /Library/Frameworks/R.framework/Resources/bin/R CMD build --keep-empty-dirs --no-resave-data cydar StartedAt: 2022-04-12 05:32:05 -0400 (Tue, 12 Apr 2022) EndedAt: 2022-04-12 05:34:16 -0400 (Tue, 12 Apr 2022) EllapsedTime: 130.6 seconds RetCode: 0 Status: OK PackageFile: cydar_1.18.0.tar.gz PackageFileSize: 462.4 KiB