Package: cydar Version: 1.18.0 Command: rm -rf cydar.buildbin-libdir && mkdir cydar.buildbin-libdir && C:\Users\biocbuild\bbs-3.14-bioc\R\bin\R.exe CMD INSTALL --merge-multiarch --build --library=cydar.buildbin-libdir cydar_1.18.0.tar.gz StartedAt: 2022-04-13 05:58:33 -0400 (Wed, 13 Apr 2022) EndedAt: 2022-04-13 06:00:35 -0400 (Wed, 13 Apr 2022) EllapsedTime: 121.7 seconds RetCode: 0 Status: OK PackageFile: cydar_1.18.0.zip PackageFileSize: 1.827 MiB