Package: enrichplot Version: 1.14.2 Command: /Library/Frameworks/R.framework/Resources/bin/R CMD build --keep-empty-dirs --no-resave-data enrichplot StartedAt: 2022-04-12 05:52:51 -0400 (Tue, 12 Apr 2022) EndedAt: 2022-04-12 05:53:37 -0400 (Tue, 12 Apr 2022) EllapsedTime: 46.0 seconds RetCode: 0 Status: OK PackageFile: enrichplot_1.14.2.tar.gz PackageFileSize: 87.01 KiB