git_url: https://git.bioconductor.org/packages/miRNAmeConverter git_branch: RELEASE_3_14 git_last_commit: ca6bcbb git_last_commit_date: 2021-10-26 12:26:05 -0400 (Tue, 26 Oct 2021) Package: miRNAmeConverter Version: 1.22.0 Maintainer: Stefan J. Haunsberger MaintainerEmail: stefan.haunsberger at gmail.com