git_url: https://git.bioconductor.org/packages/microbiomeDASim git_branch: RELEASE_3_14 git_last_commit: d52287e git_last_commit_date: 2021-10-26 12:54:01 -0400 (Tue, 26 Oct 2021) Package: microbiomeDASim Version: 1.8.0 Maintainer: Justin Williams MaintainerEmail: williazo at ucla.edu