Package: nempi Version: 1.2.0 Command: C:\cygwin\bin\curl.exe -O http://155.52.207.166/BBS/3.14/bioc/src/contrib/nempi_1.2.0.tar.gz && rm -rf nempi.buildbin-libdir && mkdir nempi.buildbin-libdir && C:\Users\biocbuild\bbs-3.14-bioc\R\bin\R.exe CMD INSTALL --merge-multiarch --build --library=nempi.buildbin-libdir nempi_1.2.0.tar.gz && C:\Users\biocbuild\bbs-3.14-bioc\R\bin\R.exe CMD INSTALL nempi_1.2.0.zip && rm nempi_1.2.0.tar.gz nempi_1.2.0.zip StartedAt: 2022-04-12 07:33:24 -0400 (Tue, 12 Apr 2022) EndedAt: 2022-04-12 07:34:02 -0400 (Tue, 12 Apr 2022) EllapsedTime: 37.8 seconds RetCode: 0 Status: OK