Package: parglms Version: 1.26.0 Command: /Library/Frameworks/R.framework/Resources/bin/R CMD build --keep-empty-dirs --no-resave-data parglms StartedAt: 2022-04-12 07:44:21 -0400 (Tue, 12 Apr 2022) EndedAt: 2022-04-12 07:45:14 -0400 (Tue, 12 Apr 2022) EllapsedTime: 52.7 seconds RetCode: 0 Status: OK PackageFile: parglms_1.26.0.tar.gz PackageFileSize: 264.7 KiB