Package: rTRM Version: 1.32.0 Command: /home/biocbuild/bbs-3.14-bioc/R/bin/R CMD check --install=check:rTRM.install-out.txt --library=/home/biocbuild/bbs-3.14-bioc/R/library --no-vignettes --timings rTRM_1.32.0.tar.gz StartedAt: 2022-04-12 09:10:16 -0400 (Tue, 12 Apr 2022) EndedAt: 2022-04-12 09:11:58 -0400 (Tue, 12 Apr 2022) EllapsedTime: 101.3 seconds RetCode: 0 Status: OK CheckDir: rTRM.Rcheck Warnings: 0